BEGIN:VCALENDAR
VERSION:2.0
PRODID:-//LESLIE STAGER RN, LMT - ECPv6.15.20//NONSGML v1.0//EN
CALSCALE:GREGORIAN
METHOD:PUBLISH
X-WR-CALNAME:LESLIE STAGER RN, LMT
X-ORIGINAL-URL:https://lesliestager.com
X-WR-CALDESC:Events for LESLIE STAGER RN, LMT
REFRESH-INTERVAL;VALUE=DURATION:PT1H
X-Robots-Tag:noindex
X-PUBLISHED-TTL:PT1H
BEGIN:VTIMEZONE
TZID:America/Los_Angeles
BEGIN:DAYLIGHT
TZOFFSETFROM:-0800
TZOFFSETTO:-0700
TZNAME:PDT
DTSTART:20180311T100000
END:DAYLIGHT
BEGIN:STANDARD
TZOFFSETFROM:-0700
TZOFFSETTO:-0800
TZNAME:PST
DTSTART:20181104T090000
END:STANDARD
BEGIN:DAYLIGHT
TZOFFSETFROM:-0800
TZOFFSETTO:-0700
TZNAME:PDT
DTSTART:20190310T100000
END:DAYLIGHT
BEGIN:STANDARD
TZOFFSETFROM:-0700
TZOFFSETTO:-0800
TZNAME:PST
DTSTART:20191103T090000
END:STANDARD
BEGIN:DAYLIGHT
TZOFFSETFROM:-0800
TZOFFSETTO:-0700
TZNAME:PDT
DTSTART:20200308T100000
END:DAYLIGHT
BEGIN:STANDARD
TZOFFSETFROM:-0700
TZOFFSETTO:-0800
TZNAME:PST
DTSTART:20201101T090000
END:STANDARD
BEGIN:DAYLIGHT
TZOFFSETFROM:-0800
TZOFFSETTO:-0700
TZNAME:PDT
DTSTART:20210314T100000
END:DAYLIGHT
BEGIN:STANDARD
TZOFFSETFROM:-0700
TZOFFSETTO:-0800
TZNAME:PST
DTSTART:20211107T090000
END:STANDARD
END:VTIMEZONE
BEGIN:VEVENT
DTSTART;TZID=America/Los_Angeles:20200724T090000
DTEND;TZID=America/Los_Angeles:20200724T180000
DTSTAMP:20260421T104732
CREATED:20200201T170051Z
LAST-MODIFIED:20200212T194406Z
UID:7942-1595581200-1595613600@lesliestager.com
SUMMARY:Fundamentals of Prenatal Massage (Portland\, Oregon) JULY
DESCRIPTION:JULY 24-27\,2020 REGISTER AT OREGON SCHOOL OF MASSAGE Call : (800) 844-3420 \nYour new Client is pregnant: \nDo you know if your bodywork modality is contraindicated during pregnancy? \nWhat if she can’t lay comfortably on her side\, nor safely on her back? \nWhat if she has uterine contractions during a session? \nMost practitioners see an occasional pregnant client\, but few know the PRIMARY Concerns\,  the Benefits\, or the protocols that ensure optimum care for their client! \nLearn to practice safely and effectively with greater confidence while dispelling the myths about massage during pregnancy! \nPregnancy Massage Fundamentals presents essential guidelines that improve your body mechanics\, increase your options for optimal positioning and draping\, and create greater comfort for your clients. \nWHAT YOU’LL LEARN: \n** Pregnancy physiology that affects your bodywork practice.** Prenatal massage Precautions and Contraindications** Signs and symptoms of pregnancy Pathologies** Positioning and Draping options** Clarification of myths vs realities about pregnancy massage** Massage benefits for women and baby in-utero** Practice adaptations through the trimesters** Ways to optimize circulation\, decrease edema\, and support uterine ligaments in sidelying position. \nThis class is the First day of the 4-day 32-hour Prenatal Bodywork Training & Certification. \nADVANCED CERTIFICATION: Combine this course with the classes: Prenatal Bodywork Practicum\, Massage & Acupressure for Birth\, and Bodywork for the New Mother\, along with a written exam\, a project\, and case studies\, to receive  the 65-hour MotherTouch Maternity Massage Certification. \nThere are no upcoming events.
URL:https://lesliestager.com/calendar/fundamentals-of-prenatal-massage-portland-oregon/
LOCATION:{Oregon School of Massage\, Portland\, OREGON}\, Oregon School of Massage\, 9500 Southwest Barbur Boulevard #100\, Portland\, OR\, 97219\, United States
CATEGORIES:Fundamentals,Live Classes,Maternity Massage Certification,Oregon,Prenatal Certification,Upcoming Events
ATTACH;FMTTYPE=image/jpeg:https://lesliestager.com/wp-content/uploads/2019/02/Hillary-Atiyeh-79.jpg
ORGANIZER;CN="Leslie Stager":MAILTO:leslie@lesliestager.com
END:VEVENT
BEGIN:VEVENT
DTSTART;VALUE=DATE:20190913
DTEND;VALUE=DATE:20190917
DTSTAMP:20260421T104732
CREATED:20190208T081747Z
LAST-MODIFIED:20190316T063407Z
UID:5771-1568332800-1568678399@lesliestager.com
SUMMARY:MotherTouch Prenatal Bodywork Certification{GAINESVILLE\, FL}
DESCRIPTION:REGISTER at the bottom of this page under Tickets \n207 323 5101 \nMotherTouch™ Prenatal Bodywork Certification is a 32-hour comprehensive and holistic Certification program consisting of the MotherTouchFundamentals of Pregnancy Massage and the Pregnancy Massage Practicum. \n \nDrawing wisdom from multi-cultural birthing practices\, MotherTouch™ offers a truly holistic prenatal massage program addressing both the physiological and emotional changes women undergo as they become Mother. \n\nBodywork Benefits\nPrecautions & High Risk Concerns\,\nRisk Symptoms\nWide variety of hands-on manual techniques to support a pregnant woman–including pelvic rebalancing\, acupressure\, labor preparation\n\nLeslie approaches MotherTouch with reverence and deep appreciation for this rite of passage. \n\nAdvanced bodywork skills\nAnatomy & Physiology \nPregnancy Pathology\nHours of hands-on advanced bodywork techniques\nFun stories\, personal attention\, inspirational wisdom\n\nBuild your confidence during a supervised pregnancy massage clinic! \nDevelop unique skills applicable  immediately to your massage practice. \nUpon successful completion of the extensive hands-on training\, lecture\, participatory discussion\, pregnancy clinic as well as a written exam\, the student will be certified as a MotherTouch™ Prenatal Bodywork Practitioner. \nPREREQUISITES: \n\nMust be licensed as massage therapist\, or close to completion of massage school.\nMust purchase and read before class chapters 1-5 of Leslie’s book Nurturing Massage for Pregnancy: A Practical Guide to Bodywork for the Perinatal Cycle.\n\n  \nPLEASE NOTE: This is a CERTIFICATION program. Criteria for certification\nBy the end of the course the following must be approved by the instructor: \nDemonstrated understanding of class material. \nDemonstrated ability to practice bodywork techniques\, positioning\, draping taught in class. \nSuccessful completion of the written quiz. \nA student may be required to register for individualized mentoring if the instructor perceives the student needs more one-to-one attention for full integration of the class material. There will be no charge for the first hour of mentoring in this case. If further instruction is required\, the student may be required to pay up to $40/hour for private tutoring. \nThe student reserves the right to receive only the standard 32-hour CE Certificate of Attendance in lieu of the full MotherTouch Prenatal Bodywork Certification. \n  \n \n 
URL:https://lesliestager.com/calendar/mothertouch-prenatal-bodywork-certification-florida/
LOCATION:Florida School of Massage\, 6421 SW 13th St\, Gainesville\, FL\, 32608\, United States
CATEGORIES:Gainesville,Live Classes,Maternity Massage Certification,Prenatal Certification,Upcoming Events
ATTACH;FMTTYPE=image/jpeg:https://lesliestager.com/wp-content/uploads/2018/12/Hillary-Atiyeh-188-crop-class.jpg
ORGANIZER;CN="Oregon School of Massage":MAILTO:leslie@lesliestager.com
END:VEVENT
END:VCALENDAR